BEGIN:VCALENDAR
VERSION:2.0
PRODID:-//Jagodnik - ECPv6.15.17//NONSGML v1.0//EN
CALSCALE:GREGORIAN
METHOD:PUBLISH
X-ORIGINAL-URL:https://jagodnik.pl
X-WR-CALDESC:Wydarzenia dla Jagodnik
REFRESH-INTERVAL;VALUE=DURATION:PT1H
X-Robots-Tag:noindex
X-PUBLISHED-TTL:PT1H
BEGIN:VTIMEZONE
TZID:Europe/Warsaw
BEGIN:DAYLIGHT
TZOFFSETFROM:+0100
TZOFFSETTO:+0200
TZNAME:CEST
DTSTART:20230326T010000
END:DAYLIGHT
BEGIN:STANDARD
TZOFFSETFROM:+0200
TZOFFSETTO:+0100
TZNAME:CET
DTSTART:20231029T010000
END:STANDARD
BEGIN:DAYLIGHT
TZOFFSETFROM:+0100
TZOFFSETTO:+0200
TZNAME:CEST
DTSTART:20240331T010000
END:DAYLIGHT
BEGIN:STANDARD
TZOFFSETFROM:+0200
TZOFFSETTO:+0100
TZNAME:CET
DTSTART:20241027T010000
END:STANDARD
BEGIN:DAYLIGHT
TZOFFSETFROM:+0100
TZOFFSETTO:+0200
TZNAME:CEST
DTSTART:20250330T010000
END:DAYLIGHT
BEGIN:STANDARD
TZOFFSETFROM:+0200
TZOFFSETTO:+0100
TZNAME:CET
DTSTART:20251026T010000
END:STANDARD
END:VTIMEZONE
BEGIN:VEVENT
DTSTART;TZID=Europe/Warsaw:20240204T000000
DTEND;TZID=Europe/Warsaw:20240204T235959
DTSTAMP:20260423T031255
CREATED:20240103T082427Z
LAST-MODIFIED:20240201T071631Z
UID:73240-1707004800-1707091199@jagodnik.pl
SUMMARY:Akademia Uprawy Truskawek
DESCRIPTION:Zapraszamy na tegoroczne spotkanie z cyklu Akademia Uprawy Truskawek\, które odbędzie się w Sali weselnej Niespodzianka (Stare Radzikowo 38\, k. Czerwińska nad Wisłą) już 4 lutego. \n\n\n\n\n\n\n\n\n\n\n\nZarejestruj swój udział w wydarzeniu:\n\n\n\n\nRejestracja\n\n\n\n\nPROGRAM SPOTKANIA\n\n\n\nRejestracja 9.30-10.00 \n\n\n\nRozpoczęcie \n\n\n\n10.00-10.30 – Trendy dotyczące wyboru i uprawy wczesnych oraz powtarzających owocowanie odmian truskawek – Zbigniew Pisarek\, Flevoplant \n\n\n\n10.30 – 10.45 – Biologiczne metody ograniczenia szkodników glebowych i chorób roślin – Przemysław Kowalewski\, Ceres \n\n\n\n10.40-11.00 – Połączenie standardowych i biologicznych fungicydów w nowoczesnej ochronie truskawek przed chorobami – Przemysław Kostrzewski\, BASF \n\n\n\n11.00 – 11.30 – Nawożenie – wybór optymalnego programu w uprawach pod osłonami w uprawie na wczesny zbiór i uprawie odmian powtarzających owocowanie – Magdalena Cieślak-Włodarczyk\, Yara Poland \n\n\n\n11.30–12.00 – przerwa kawowa  \n\n\n\n12.00–12.30 – Późne odmiany truskawek – nowości odmianowe i zasady ich uprawy – Dariusz Bujak\, DeKemp \n\n\n\n12.30–13.00 – Optymalne przygotowanie substratu do uprawy truskawek – Tomasz Szuławy\, Ceres \n\n\n\n13.00 – 13.30 – Wykorzystanie agrowłóknin w uprawie truskawek na wczesny zbiór i na rynnach w uprawach tunelowych – Tomasz Poliszak\, Agrimpex \n\n\n\n13.30 – 14.00 – Antraknoza i azot – czynniki determinujące wysoką jakość owoców – dr Paweł Krawiec\, Horti Team \n\n\n\n14.00–14.30 – Jakość wody do nawadniania i opryskiwania truskawek – Radosław Łaźny\, doradca uprawowy \n\n\n\nGłówni partnerzy wydarzenia: Agrimpex\,  BASF\, Ceres\, DeKemp\, Flevoplant\, Yara Poland  \n\n\n\nPartnerzy: Haygrove\, Niewczas Szkółka Sadzonek Truskawek\, Carbohort \n\n\n\nWstęp bezpłatny\, wymagana wcześniejsza rejestracja na portalu jagodnik.pl do 30 stycznia.
URL:https://jagodnik.pl/event/akademia-uprawy-truskawek-2/
LOCATION:Sala weselna Niespodzianka\, Stare Radzikowo\, Czerwińsk nad Wisłą 38\, Czerwińsk nad Wisłą\, 09-150\, Poland
ATTACH;FMTTYPE=image/png:https://jagodnik.pl/wp-content/uploads/2024/01/AUT_2024_600x400.png
END:VEVENT
END:VCALENDAR