BEGIN:VCALENDAR
VERSION:2.0
PRODID:-//Jagodnik - ECPv6.15.17//NONSGML v1.0//EN
CALSCALE:GREGORIAN
METHOD:PUBLISH
X-WR-CALNAME:Jagodnik
X-ORIGINAL-URL:https://jagodnik.pl
X-WR-CALDESC:Wydarzenia dla Jagodnik
REFRESH-INTERVAL;VALUE=DURATION:PT1H
X-Robots-Tag:noindex
X-PUBLISHED-TTL:PT1H
BEGIN:VTIMEZONE
TZID:Europe/Warsaw
BEGIN:DAYLIGHT
TZOFFSETFROM:+0100
TZOFFSETTO:+0200
TZNAME:CEST
DTSTART:20250330T010000
END:DAYLIGHT
BEGIN:STANDARD
TZOFFSETFROM:+0200
TZOFFSETTO:+0100
TZNAME:CET
DTSTART:20251026T010000
END:STANDARD
BEGIN:DAYLIGHT
TZOFFSETFROM:+0100
TZOFFSETTO:+0200
TZNAME:CEST
DTSTART:20260329T010000
END:DAYLIGHT
BEGIN:STANDARD
TZOFFSETFROM:+0200
TZOFFSETTO:+0100
TZNAME:CET
DTSTART:20261025T010000
END:STANDARD
BEGIN:DAYLIGHT
TZOFFSETFROM:+0100
TZOFFSETTO:+0200
TZNAME:CEST
DTSTART:20270328T010000
END:DAYLIGHT
BEGIN:STANDARD
TZOFFSETFROM:+0200
TZOFFSETTO:+0100
TZNAME:CET
DTSTART:20271031T010000
END:STANDARD
END:VTIMEZONE
BEGIN:VEVENT
DTSTART;TZID=Europe/Warsaw:20260421T000000
DTEND;TZID=Europe/Warsaw:20260423T235959
DTSTAMP:20260421T013535
CREATED:20260327T134009Z
LAST-MODIFIED:20260327T134025Z
UID:87189-1776729600-1776988799@jagodnik.pl
SUMMARY:Macfrut 2026
DESCRIPTION:W dniach 21-23 kwietnia odbędzie się kolejna edycja międzynarodowych targów Macfrut zlokalizowanych we włoskim Rimini Expo Centre. \n\n\n\nMacfrut to wiodące targi dla profesjonalistów działających w krajowym i międzynarodowym sektorze owocowo-warzywnym. Wspaniałe stoiska wystawowe\, rosnąca liczba uczestniczących firm włoskich i zagranicznych\, dynamiczne obszary oraz szeroki wachlarz inicjatyw mających na celu promowanie innowacji i internacjonalizacji to cechy\, które sprawiają\, że jest to kluczowe wydarzenie dla profesjonalistów i kupców. \n\n\n\nWięcej na: www.macfrut.com
URL:https://jagodnik.pl/event/macfrut-2026/
LOCATION:Rimini Expo Centre\, Via Emilia 155\, Rimini RN\, 47921\, Włochy
END:VEVENT
END:VCALENDAR